Workbook

Sheet Podsumowanie
A1: Ewidencja czasu pracy — dashboard
A4: Miesiąc | B4: 2026-10
A6: Godziny | D6: Wartość pracy | G6: Liczba wpisów
A7: =SUMIFS('Czas pracy'!$G$2:$G$500,'Czas pracy'!$J$2:$J$500,$B$4) -> 25.75 | D7: =SUMIFS('Czas pracy'!$I$2:$I$500,'Czas pracy'!$J$2:$J$500,$B$4) -> 3475 | G7: =COUNTIF('Czas pracy'!$J$2:$J$500,$B$4) -> 7
A10: Średnio / dzień
A11: =IFERROR(A7/COUNTIFS('Czas pracy'!$J$2:$J$500,$B$4,'Czas pracy'!$A$2:$A$500,"<>"),0) -> 3.6785714
A15: Projekt | B15: Godziny | C15: Wartość | E15: Miesiąc | F15: Godziny | G15: Wartość
A16: Projekt A | B16: =SUMIFS('Czas pracy'!$G$2:$G$500,'Czas pracy'!$B$2:$B$500,A16,'Czas pracy'!$J$2:$J$500,$B$4) -> 12.5 | C16: =SUMIFS('Czas pracy'!$I$2:$I$500,'Czas pracy'!$B$2:$B$500,A16,'Czas pracy'!$J$2:$J$500,$B$4) -> 1500 | E16: 2026-01 | F16: =SUMIFS('Czas pracy'!$G$2:$G$500,'Czas pracy'!$J$2:$J$500,E16) -> 0 | G16: =SUMIFS('Czas pracy'!$I$2:$I$500,'Czas pracy'!$J$2:$J$500,E16) -> 0
A17: Projekt B | B17: =SUMIFS('Czas pracy'!$G$2:$G$500,'Czas pracy'!$B$2:$B$500,A17,'Czas pracy'!$J$2:$J$500,$B$4) -> 7.25 | C17: =SUMIFS('Czas pracy'!$I$2:$I$500,'Czas pracy'!$B$2:$B$500,A17,'Czas pracy'!$J$2:$J$500,$B$4) -> 1015 | E17: 2026-02 | F17: =SUMIFS('Czas pracy'!$G$2:$G$500,'Czas pracy'!$J$2:$J$500,E17) -> 0 | G17: =SUMIFS('Czas pracy'!$I$2:$I$500,'Czas pracy'!$J$2:$J$500,E17) -> 0
A18: Projekt C | B18: =SUMIFS('Czas pracy'!$G$2:$G$500,'Czas pracy'!$B$2:$B$500,A18,'Czas pracy'!$J$2:$J$500,$B$4) -> 6 | C18: =SUMIFS('Czas pracy'!$I$2:$I$500,'Czas pracy'!$B$2:$B$500,A18,'Czas pracy'!$J$2:$J$500,$B$4) -> 960 | E18: 2026-03 | F18: =SUMIFS('Czas pracy'!$G$2:$G$500,'Czas pracy'!$J$2:$J$500,E18) -> 0 | G18: =SUMIFS('Czas pracy'!$I$2:$I$500,'Czas pracy'!$J$2:$J$500,E18) -> 0
A19: Administracja | B19: =SUMIFS('Czas pracy'!$G$2:$G$500,'Czas pracy'!$B$2:$B$500,A19,'Czas pracy'!$J$2:$J$500,$B$4) -> 0 | C19: =SUMIFS('Czas pracy'!$I$2:$I$500,'Czas pracy'!$B$2:$B$500,A19,'Czas pracy'!$J$2:$J$500,$B$4) -> 0 | E19: 2026-04 | F19: =SUMIFS('Czas pracy'!$G$2:$G$500,'Czas pracy'!$J$2:$J$500,E19) -> 0 | G19: =SUMIFS('Czas pracy'!$I$2:$I$500,'Czas pracy'!$J$2:$J$500,E19) -> 0
A20: Inne | B20: =SUMIFS('Czas pracy'!$G$2:$G$500,'Czas pracy'!$B$2:$B$500,A20,'Czas pracy'!$J$2:$J$500,$B$4) -> 0 | C20: =SUMIFS('Czas pracy'!$I$2:$I$500,'Czas pracy'!$B$2:$B$500,A20,'Czas pracy'!$J$2:$J$500,$B$4) -> 0 | E20: 2026-05 | F20: =SUMIFS('Czas pracy'!$G$2:$G$500,'Czas pracy'!$J$2:$J$500,E20) -> 0 | G20: =SUMIFS('Czas pracy'!$I$2:$I$500,'Czas pracy'!$J$2:$J$500,E20) -> 0
E21: 2026-06 | F21: =SUMIFS('Czas pracy'!$G$2:$G$500,'Czas pracy'!$J$2:$J$500,E21) -> 0 | G21: =SUMIFS('Czas pracy'!$I$2:$I$500,'Czas pracy'!$J$2:$J$500,E21) -> 0
E22: 2026-07 | F22: =SUMIFS('Czas pracy'!$G$2:$G$500,'Czas pracy'!$J$2:$J$500,E22) -> 0 | G22: =SUMIFS('Czas pracy'!$I$2:$I$500,'Czas pracy'!$J$2:$J$500,E22) -> 0
E23: 2026-08 | F23: =SUMIFS('Czas pracy'!$G$2:$G$500,'Czas pracy'!$J$2:$J$500,E23) -> 0 | G23: =SUMIFS('Czas pracy'!$I$2:$I$500,'Czas pracy'!$J$2:$J$500,E23) -> 0
E24: 2026-09 | F24: =SUMIFS('Czas pracy'!$G$2:$G$500,'Czas pracy'!$J$2:$J$500,E24) -> 0 | G24: =SUMIFS('Czas pracy'!$I$2:$I$500,'Czas pracy'!$J$2:$J$500,E24) -> 0
E25: 2026-10 | F25: =SUMIFS('Czas pracy'!$G$2:$G$500,'Czas pracy'!$J$2:$J$500,E25) -> 25.75 | G25: =SUMIFS('Czas pracy'!$I$2:$I$500,'Czas pracy'!$J$2:$J$500,E25) -> 3475
E26: 2026-11 | F26: =SUMIFS('Czas pracy'!$G$2:$G$500,'Czas pracy'!$J$2:$J$500,E26) -> 0 | G26: =SUMIFS('Czas pracy'!$I$2:$I$500,'Czas pracy'!$J$2:$J$500,E26) -> 0
E27: 2026-12 | F27: =SUMIFS('Czas pracy'!$G$2:$G$500,'Czas pracy'!$J$2:$J$500,E27) -> 0 | G27: =SUMIFS('Czas pracy'!$I$2:$I$500,'Czas pracy'!$J$2:$J$500,E27) -> 0

Sheet Czas pracy
A1: Data | B1: Projekt | C1: Zadanie | D1: Start | E1: Koniec | F1: Przerwa (min) | G1: Godziny netto | H1: Stawka | I1: Wartość | J1: Miesiąc
A2: 46296 | B2: Projekt A | C2: Analiza danych | D2: 46296.333 | E2: 46296.521 | F2: 30 | G2: =IF(OR(D2="",E2=""),0,MAX(0,(E2-D2)*24-F2/60)) -> 4 | H2: 120 | I2: =G2*H2 -> 480 | J2: =TEXT(A2,"yyyy-mm") -> 2026-10
A3: 46296 | B3: Projekt B | C3: Raport | D3: 46296.542 | E3: 46296.667 | F3: 15 | G3: =IF(OR(D3="",E3=""),0,MAX(0,(E3-D3)*24-F3/60)) -> 2.75 | H3: 140 | I3: =G3*H3 -> 385 | J3: =TEXT(A3,"yyyy-mm") -> 2026-10
A4: 46297 | B4: Projekt A | C4: Automatyzacja | D4: 46297.344 | E4: 46297.583 | F4: 30 | G4: =IF(OR(D4="",E4=""),0,MAX(0,(E4-D4)*24-F4/60)) -> 5.25 | H4: 120 | I4: =G4*H4 -> 630 | J4: =TEXT(A4,"yyyy-mm") -> 2026-10
A5: 46298 | B5: Projekt C | C5: Konsultacja | D5: 46298.375 | E5: 46298.5 | F5: 0 | G5: =IF(OR(D5="",E5=""),0,MAX(0,(E5-D5)*24-F5/60)) -> 3 | H5: 160 | I5: =G5*H5 -> 480 | J5: =TEXT(A5,"yyyy-mm") -> 2026-10
A6: 46300 | B6: Projekt B | C6: Dashboard | D6: 46300.333 | E6: 46300.542 | F6: 30 | G6: =IF(OR(D6="",E6=""),0,MAX(0,(E6-D6)*24-F6/60)) -> 4.5 | H6: 140 | I6: =G6*H6 -> 630 | J6: =TEXT(A6,"yyyy-mm") -> 2026-10
A7: 46301 | B7: Projekt A | C7: Testy | D7: 46301.417 | E7: 46301.562 | F7: 15 | G7: =IF(OR(D7="",E7=""),0,MAX(0,(E7-D7)*24-F7/60)) -> 3.25 | H7: 120 | I7: =G7*H7 -> 390 | J7: =TEXT(A7,"yyyy-mm") -> 2026-10
A8: 46302 | B8: Projekt C | C8: Dokumentacja | D8: 46302.354 | E8: 46302.479 | F8: 0 | G8: =IF(OR(D8="",E8=""),0,MAX(0,(E8-D8)*24-F8/60)) -> 3 | H8: 160 | I8: =G8*H8 -> 480 | J8: =TEXT(A8,"yyyy-mm") -> 2026-10
G9: =IF(OR(D9="",E9=""),0,MAX(0,(E9-D9)*24-F9/60)) -> 0 | I9: =G9*H9 -> 0 | J9: =TEXT(A9,"yyyy-mm")
G10: =IF(OR(D10="",E10=""),0,MAX(0,(E10-D10)*24-F10/60)) -> 0 | I10: =G10*H10 -> 0 | J10: =TEXT(A10,"yyyy-mm")
G11: =IF(OR(D11="",E11=""),0,MAX(0,(E11-D11)*24-F11/60)) -> 0 | I11: =G11*H11 -> 0 | J11: =TEXT(A11,"yyyy-mm")
G12: =IF(OR(D12="",E12=""),0,MAX(0,(E12-D12)*24-F12/60)) -> 0 | I12: =G12*H12 -> 0 | J12: =TEXT(A12,"yyyy-mm")
G13: =IF(OR(D13="",E13=""),0,MAX(0,(E13-D13)*24-F13/60)) -> 0 | I13: =G13*H13 -> 0 | J13: =TEXT(A13,"yyyy-mm")
G14: =IF(OR(D14="",E14=""),0,MAX(0,(E14-D14)*24-F14/60)) -> 0 | I14: =G14*H14 -> 0 | J14: =TEXT(A14,"yyyy-mm")
G15: =IF(OR(D15="",E15=""),0,MAX(0,(E15-D15)*24-F15/60)) -> 0 | I15: =G15*H15 -> 0 | J15: =TEXT(A15,"yyyy-mm")
G16: =IF(OR(D16="",E16=""),0,MAX(0,(E16-D16)*24-F16/60)) -> 0 | I16: =G16*H16 -> 0 | J16: =TEXT(A16,"yyyy-mm")
G17: =IF(OR(D17="",E17=""),0,MAX(0,(E17-D17)*24-F17/60)) -> 0 | I17: =G17*H17 -> 0 | J17: =TEXT(A17,"yyyy-mm")
G18: =IF(OR(D18="",E18=""),0,MAX(0,(E18-D18)*24-F18/60)) -> 0 | I18: =G18*H18 -> 0 | J18: =TEXT(A18,"yyyy-mm")
G19: =IF(OR(D19="",E19=""),0,MAX(0,(E19-D19)*24-F19/60)) -> 0 | I19: =G19*H19 -> 0 | J19: =TEXT(A19,"yyyy-mm")
G20: =IF(OR(D20="",E20=""),0,MAX(0,(E20-D20)*24-F20/60)) -> 0 | I20: =G20*H20 -> 0 | J20: =TEXT(A20,"yyyy-mm")
... G500: =IF(OR(D500="",E500=""),0,MAX(0,(E500-D500)*24-F500/60)) -> 0 | I500: =G500*H500 -> 0 | J500: =TEXT(A500,"yyyy-mm")

Sheet Instrukcja
A1: Jak korzystać z ewidencji czasu pracy
A4: 1. Dodawaj wpisy
A5: W arkuszu „Czas pracy” wpisuj datę, projekt, opis zadania, godzinę rozpoczęcia i zakończenia oraz przerwę.
A8: 2. Stawka jest opcjonalna
A9: Jeśli wpiszesz stawkę godzinową, arkusz automatycznie obliczy wartość pracy.
A12: 3. Kontroluj długie dni
A13: Dni z czasem netto powyżej 8 godzin są automatycznie wyróżniane.
A16: 4. Analizuj miesiące
A17: Wybierz miesiąc na dashboardzie, aby zobaczyć łączny czas, wartość i podsumowanie wg projektów.
