Workbook

Sheet Dashboard
A1: Lista zadań — dashboard
A5: Wszystkie | D5: Do zrobienia | G5: W toku
A6: =COUNTIF(Zadania!$B$2:$B$500,"<>") -> 8 | D6: =COUNTIF(Zadania!$E$2:$E$500,"Do zrobienia") -> 3 | G6: =COUNTIF(Zadania!$E$2:$E$500,"W toku") -> 2
A9: Gotowe | D9: Po terminie | G9: Średni postęp
A10: =COUNTIF(Zadania!$E$2:$E$500,"Gotowe") -> 2 | D10: =COUNTIFS(Zadania!$E$2:$E$500,"<>Gotowe",Zadania!$F$2:$F$500,"<"&TODAY(),Zadania!$F$2:$F$500,"<>") -> 1 | G10: =IFERROR(AVERAGEIF(Zadania!$B$2:$B$500,"<>",Zadania!$H$2:$H$500),0) -> 0.40625
A14: Status | B14: Liczba | D14: Priorytet | E14: Liczba otwartych
A15: Do zrobienia | B15: =COUNTIF(Zadania!$E$2:$E$500,A15) -> 3 | D15: Pilny | E15: =COUNTIFS(Zadania!$D$2:$D$500,D15,Zadania!$E$2:$E$500,"<>Gotowe") -> 2
A16: W toku | B16: =COUNTIF(Zadania!$E$2:$E$500,A16) -> 2 | D16: Wysoki | E16: =COUNTIFS(Zadania!$D$2:$D$500,D16,Zadania!$E$2:$E$500,"<>Gotowe") -> 1
A17: Wstrzymane | B17: =COUNTIF(Zadania!$E$2:$E$500,A17) -> 1 | D17: Średni | E17: =COUNTIFS(Zadania!$D$2:$D$500,D17,Zadania!$E$2:$E$500,"<>Gotowe") -> 2
A18: Gotowe | B18: =COUNTIF(Zadania!$E$2:$E$500,A18) -> 2 | D18: Niski | E18: =COUNTIFS(Zadania!$D$2:$D$500,D18,Zadania!$E$2:$E$500,"<>Gotowe") -> 1

Sheet Zadania
A1: ID | B1: Zadanie | C1: Kategoria | D1: Priorytet | E1: Status | F1: Termin | G1: Właściciel | H1: Postęp | I1: Uwagi
A2: 1 | B2: Raport miesięczny | C2: Praca | D2: Wysoki | E2: W toku | F2: 46304 | G2: Filip | H2: 0.65 | I2: Dokończyć wykresy
A3: 2 | B3: Odpisać klientowi | C3: Praca | D3: Pilny | E3: Do zrobienia | F3: 46302 | G3: Filip | H3: 0
A4: 3 | B4: Zamówić filtr do wody | C4: Dom | D4: Średni | E4: Do zrobienia | F4: 46307 | G4: Filip | H4: 0
A5: 4 | B5: Umówić przegląd auta | C5: Prywatne | D5: Średni | E5: Wstrzymane | F5: 46314 | G5: Filip | H5: 0.2 | I5: Czekam na termin
A6: 5 | B6: Przygotować prezentację | C6: Praca | D6: Wysoki | E6: Gotowe | F6: 46301 | G6: Filip | H6: 1
A7: 6 | B7: Sprawdzić rachunki | C7: Dom | D7: Niski | E7: Gotowe | F7: 46299 | G7: Filip | H7: 1
A8: 7 | B8: Zaktualizować portfolio | C8: Rozwój | D8: Niski | E8: Do zrobienia | F8: 46322 | G8: Filip | H8: 0
A9: 8 | B9: Wysłać dokumenty | C9: Prywatne | D9: Pilny | E9: W toku | F9: 46301 | G9: Filip | H9: 0.4 | I9: Po terminie
A10: =ROW()-1 -> 9
A11: =ROW()-1 -> 10
A12: =ROW()-1 -> 11
A13: =ROW()-1 -> 12
A14: =ROW()-1 -> 13
A15: =ROW()-1 -> 14
A16: =ROW()-1 -> 15
A17: =ROW()-1 -> 16
A18: =ROW()-1 -> 17
A19: =ROW()-1 -> 18
A20: =ROW()-1 -> 19
A21: =ROW()-1 -> 20
... A500: =ROW()-1 -> 499

Sheet Instrukcja
A1: Jak korzystać z listy zadań
A4: 1. Dodawaj zadania
A5: Każde zadanie wpisz w osobnym wierszu arkusza „Zadania”. Ustaw kategorię, priorytet, status, termin i postęp.
A8: 2. Pilnuj terminów
A9: Niezakończone zadania po terminie są automatycznie wyróżniane na czerwono.
A12: 3. Aktualizuj postęp
A13: W kolumnie Postęp wpisuj wartość od 0% do 100%. Pasek danych ułatwia szybkie porównanie.
A16: 4. Czytaj dashboard
A17: Dashboard pokazuje statusy, zaległości, średni postęp i strukturę priorytetów.
